BEGIN:VCALENDAR
VERSION:2.0
PRODID:-//Plone.org//NONSGML plone.app.event//EN
X-WR-TIMEZONE:US/Pacific
BEGIN:VEVENT
SUMMARY:Kayak Journey to Cape Scott 
DTSTART;VALUE=DATE-TIME:20180228T190000
DTEND;VALUE=DATE-TIME:20180228T210000
DTSTAMP;VALUE=DATE-TIME:20260421T011309Z
UID:54a4dd1726084f0481fc665e7e861e23@localhost:6081
CREATED;VALUE=DATE-TIME:20171021T202818Z
DESCRIPTION:Cape Scott presentation by Tom Unger
LAST-MODIFIED;VALUE=DATE-TIME:20180221T164857Z
LOCATION:Seattle Program Center
URL:https://www.mountaineers.org/locations-lodges/seattle-program-center/e
 vents/kayak-journey-to-cape-scott
END:VEVENT
BEGIN:VTIMEZONE
TZID:America/Los_Angeles
X-LIC-LOCATION:America/Los_Angeles
BEGIN:STANDARD
DTSTART;VALUE=DATE-TIME:20171105T010000
TZNAME:PST
TZOFFSETFROM:-0700
TZOFFSETTO:-0800
END:STANDARD
END:VTIMEZONE
END:VCALENDAR
