BEGIN:VCALENDAR
VERSION:2.0
PRODID:-//Plone.org//NONSGML plone.app.event//EN
X-WR-TIMEZONE:US/Pacific
BEGIN:VEVENT
SUMMARY:Jim Whittaker Celebration of Life (Hold)
DTSTART;VALUE=DATE-TIME:20260614T070000
DTEND;VALUE=DATE-TIME:20260614T230000
DTSTAMP;VALUE=DATE-TIME:20260421T163656Z
UID:f8d65b2c4d6448cfb6b20a281913ae36@localhost:6081
CREATED;VALUE=DATE-TIME:20260421T164118Z
DESCRIPTION:Jim Whittaker Celebration of Life
LAST-MODIFIED;VALUE=DATE-TIME:20260421T164652Z
LOCATION:Seattle Program Center
URL:https://www.mountaineers.org/locations-lodges/seattle-program-center/e
 vents/jim-whittaker-celebration-of-life
END:VEVENT
BEGIN:VTIMEZONE
TZID:America/Los_Angeles
X-LIC-LOCATION:America/Los_Angeles
BEGIN:DAYLIGHT
DTSTART;VALUE=DATE-TIME:20260308T030000
TZNAME:PDT
TZOFFSETFROM:-0800
TZOFFSETTO:-0700
END:DAYLIGHT
END:VTIMEZONE
END:VCALENDAR
