BEGIN:VCALENDAR
VERSION:2.0
PRODID:-//Plone.org//NONSGML plone.app.event//EN
X-WR-TIMEZONE:US/Pacific
BEGIN:VEVENT
SUMMARY:Introduction to Extended Backpacking
DTSTART;VALUE=DATE-TIME:20260513T183000
DTEND;VALUE=DATE-TIME:20260513T210000
DTSTAMP;VALUE=DATE-TIME:20260422T212044Z
UID:11a84d112f234bdcbaf6e3e11b3457a4@localhost:6081
CREATED;VALUE=DATE-TIME:20250301T153637Z
DESCRIPTION:For backpackers with experience on shorter trips\, this evenin
 g seminar helps to bridge the gap between weekend trips of 2-3 nights and 
 longer trips of 5-8 nights\, including how to prepare and pack gear\, clot
 hing\, and food. Experienced long-trip backpackers will share their experi
 ence and show you how they pack for various long trips around the Northwes
 t.
LAST-MODIFIED;VALUE=DATE-TIME:20250410T232227Z
LOCATION:Seattle Program Center
URL:https://www.mountaineers.org/locations-lodges/seattle-program-center/e
 vents/intro-to-extended-backpacking-2026-05-13
END:VEVENT
BEGIN:VTIMEZONE
TZID:America/Los_Angeles
X-LIC-LOCATION:America/Los_Angeles
BEGIN:DAYLIGHT
DTSTART;VALUE=DATE-TIME:20260308T030000
TZNAME:PDT
TZOFFSETFROM:-0800
TZOFFSETTO:-0700
END:DAYLIGHT
END:VTIMEZONE
END:VCALENDAR
