BEGIN:VCALENDAR
VERSION:2.0
PRODID:-//Plone.org//NONSGML plone.app.event//EN
X-WR-TIMEZONE:US/Pacific
BEGIN:VEVENT
SUMMARY:Intensive Basic 2026 (Goodman A & B)
DTSTART;VALUE=DATE-TIME:20260601T080000
DTEND;VALUE=DATE-TIME:20260601T150000
DTSTAMP;VALUE=DATE-TIME:20260421T163657Z
UID:412b2e93312f43abbc530661283388b4@localhost:6081
CREATED;VALUE=DATE-TIME:20260421T180649Z
DESCRIPTION:Intense Basic Climbing Course Lectures & Field Trips - Goodman
  A & B booking
LAST-MODIFIED;VALUE=DATE-TIME:20260421T200721Z
LOCATION:Seattle Program Center
URL:https://www.mountaineers.org/locations-lodges/seattle-program-center/e
 vents/intensive-basic-2026-goodman-a-b
END:VEVENT
BEGIN:VTIMEZONE
TZID:America/Los_Angeles
X-LIC-LOCATION:America/Los_Angeles
BEGIN:DAYLIGHT
DTSTART;VALUE=DATE-TIME:20260308T030000
TZNAME:PDT
TZOFFSETFROM:-0800
TZOFFSETTO:-0700
END:DAYLIGHT
END:VTIMEZONE
END:VCALENDAR
