BEGIN:VCALENDAR
VERSION:2.0
PRODID:-//Plone.org//NONSGML plone.app.event//EN
X-WR-TIMEZONE:US/Pacific
BEGIN:VEVENT
SUMMARY:Goodbye Lunch for Michelle
DTSTART;VALUE=DATE-TIME:20260430T113000
DTEND;VALUE=DATE-TIME:20260430T130000
DTSTAMP;VALUE=DATE-TIME:20260423T034241Z
UID:4373259c261d4c4d801d8aeff6eb7c1b@localhost:6081
CREATED;VALUE=DATE-TIME:20260423T001132Z
DESCRIPTION:Goodbye Lunch for Michelle
LAST-MODIFIED;VALUE=DATE-TIME:20260423T001142Z
LOCATION:Seattle Program Center
URL:https://www.mountaineers.org/locations-lodges/seattle-program-center/e
 vents/goodbye-lunch-for-michelle
END:VEVENT
BEGIN:VTIMEZONE
TZID:America/Los_Angeles
X-LIC-LOCATION:America/Los_Angeles
BEGIN:DAYLIGHT
DTSTART;VALUE=DATE-TIME:20260308T030000
TZNAME:PDT
TZOFFSETFROM:-0800
TZOFFSETTO:-0700
END:DAYLIGHT
END:VTIMEZONE
END:VCALENDAR
