BEGIN:VCALENDAR
VERSION:2.0
PRODID:-//Plone.org//NONSGML plone.app.event//EN
X-WR-TIMEZONE:US/Pacific
BEGIN:VEVENT
SUMMARY:Seattle Youth Gear Library Orientation -Virtual 
DTSTART;VALUE=DATE-TIME:20200914T183000
DTEND;VALUE=DATE-TIME:20200914T193000
DTSTAMP;VALUE=DATE-TIME:20260423T151838Z
UID:f7f9dc257ee944759d42623fdafa10c8@localhost:6081
CREATED;VALUE=DATE-TIME:20200304T194838Z
DESCRIPTION:Do you want to use the gear library or would you like to volun
 teer so more youth can be prepared for a good time outside? Attend this ev
 ent to learn how The Mountaineers gear library works and how you can be a 
 part of it!
LAST-MODIFIED;VALUE=DATE-TIME:20200827T220242Z
LOCATION:Zoom Video Call
URL:https://www.mountaineers.org/locations-lodges/seattle-program-center/e
 vents/gear-library-orientation-7-2020-09-16
END:VEVENT
BEGIN:VTIMEZONE
TZID:America/Los_Angeles
X-LIC-LOCATION:America/Los_Angeles
BEGIN:DAYLIGHT
DTSTART;VALUE=DATE-TIME:20200308T030000
TZNAME:PDT
TZOFFSETFROM:-0800
TZOFFSETTO:-0700
END:DAYLIGHT
END:VTIMEZONE
END:VCALENDAR
