BEGIN:VCALENDAR
VERSION:2.0
PRODID:-//Plone.org//NONSGML plone.app.event//EN
X-WR-TIMEZONE:US/Pacific
BEGIN:VEVENT
SUMMARY:Gala Work Party Volunteer Event Apr 22
DTSTART;VALUE=DATE-TIME:20260422T110000
DTEND;VALUE=DATE-TIME:20260422T140000
DTSTAMP;VALUE=DATE-TIME:20260421T164019Z
UID:4c627ebcccea4090909c7f55912fcb02@localhost:6081
CREATED;VALUE=DATE-TIME:20260212T192323Z
DESCRIPTION:Help us get ready for the Gala and support our efforts to rais
 e $600K in support of The Mountaineers mission.
LAST-MODIFIED;VALUE=DATE-TIME:20260316T222034Z
LOCATION:Seattle Program Center
URL:https://www.mountaineers.org/locations-lodges/seattle-program-center/e
 vents/gala-work-party
END:VEVENT
BEGIN:VTIMEZONE
TZID:America/Los_Angeles
X-LIC-LOCATION:America/Los_Angeles
BEGIN:DAYLIGHT
DTSTART;VALUE=DATE-TIME:20260308T030000
TZNAME:PDT
TZOFFSETFROM:-0800
TZOFFSETTO:-0700
END:DAYLIGHT
END:VTIMEZONE
END:VCALENDAR
