BEGIN:VCALENDAR
VERSION:2.0
PRODID:-//Plone.org//NONSGML plone.app.event//EN
X-WR-TIMEZONE:US/Pacific
BEGIN:VEVENT
SUMMARY:Gala Work Party Volunteer Event Apr 16
DTSTART;VALUE=DATE-TIME:20260416T110000
DTEND;VALUE=DATE-TIME:20260416T140000
DTSTAMP;VALUE=DATE-TIME:20260421T181937Z
UID:984a66679e584a33bff1945b89675960@localhost:6081
CREATED;VALUE=DATE-TIME:20260212T192425Z
DESCRIPTION:Help us get ready for the Gala and support our efforts to rais
 e $600K in support of The Mountaineers mission.
LAST-MODIFIED;VALUE=DATE-TIME:20260415T232851Z
LOCATION:Seattle Program Center
URL:https://www.mountaineers.org/locations-lodges/seattle-program-center/e
 vents/gala-work-party-2026-04-16
END:VEVENT
BEGIN:VTIMEZONE
TZID:America/Los_Angeles
X-LIC-LOCATION:America/Los_Angeles
BEGIN:DAYLIGHT
DTSTART;VALUE=DATE-TIME:20260308T030000
TZNAME:PDT
TZOFFSETFROM:-0800
TZOFFSETTO:-0700
END:DAYLIGHT
END:VTIMEZONE
END:VCALENDAR
