BEGIN:VCALENDAR
VERSION:2.0
PRODID:-//Plone.org//NONSGML plone.app.event//EN
X-WR-TIMEZONE:US/Pacific
BEGIN:VEVENT
SUMMARY:Perform Better On and Off Trail - Schurman 4
DTSTART;VALUE=DATE-TIME:20260422T183000
DTEND;VALUE=DATE-TIME:20260422T203000
DTSTAMP;VALUE=DATE-TIME:20260422T053338Z
UID:d36900d65cfd4d64b48730fac4fc6752@localhost:6081
CREATED;VALUE=DATE-TIME:20251217T054026Z
DESCRIPTION:Plan your training to feel your best on and off the trail.  Ca
 rdiovascular\, strength\, and mobility training are just the tip of the ic
 eberg!
LAST-MODIFIED;VALUE=DATE-TIME:20260421T204221Z
LOCATION:Seattle Program Center
URL:https://www.mountaineers.org/locations-lodges/seattle-program-center/e
 vents/from-rehab-to-ready-schurman-2-2026-04-22
END:VEVENT
BEGIN:VTIMEZONE
TZID:America/Los_Angeles
X-LIC-LOCATION:America/Los_Angeles
BEGIN:DAYLIGHT
DTSTART;VALUE=DATE-TIME:20260308T030000
TZNAME:PDT
TZOFFSETFROM:-0800
TZOFFSETTO:-0700
END:DAYLIGHT
END:VTIMEZONE
END:VCALENDAR
