BEGIN:VCALENDAR
VERSION:2.0
PRODID:-//Plone.org//NONSGML plone.app.event//EN
X-WR-TIMEZONE:US/Pacific
BEGIN:VEVENT
SUMMARY:Forefront 2017
DTSTART;VALUE=DATE-TIME:20171013T180000
DTEND;VALUE=DATE-TIME:20171013T210000
DTSTAMP;VALUE=DATE-TIME:20260420T233908Z
UID:1427d8c0b9b1441ab86abddff2d4d422@localhost:6081
CREATED;VALUE=DATE-TIME:20170323T005514Z
DESCRIPTION:An evening expo and social event for the greater Washington Cl
 imbing Community to showcase new gear\, discuss current techniques and lea
 rn about updates to The Mountaineers climbing programs\n
LAST-MODIFIED;VALUE=DATE-TIME:20171011T024327Z
LOCATION:Seattle Program Center
URL:https://www.mountaineers.org/locations-lodges/seattle-program-center/e
 vents/forefront
END:VEVENT
BEGIN:VTIMEZONE
TZID:America/Los_Angeles
X-LIC-LOCATION:America/Los_Angeles
BEGIN:DAYLIGHT
DTSTART;VALUE=DATE-TIME:20170312T030000
TZNAME:PDT
TZOFFSETFROM:-0800
TZOFFSETTO:-0700
END:DAYLIGHT
END:VTIMEZONE
END:VCALENDAR
