BEGIN:VCALENDAR
VERSION:2.0
PRODID:-//Plone.org//NONSGML plone.app.event//EN
X-WR-TIMEZONE:US/Pacific
BEGIN:VEVENT
SUMMARY:Foothills Basic Crevasse Rescue Instructor practice
DTSTART;VALUE=DATE-TIME:20260519T180000
DTEND;VALUE=DATE-TIME:20260519T210000
DTSTAMP;VALUE=DATE-TIME:20260420T064302Z
UID:6e3e22a015184824bd4bb5e2b80736e0@localhost:6081
CREATED;VALUE=DATE-TIME:20260330T171241Z
DESCRIPTION:Foothills Basic Crevasse Rescue Instructor practice
LAST-MODIFIED;VALUE=DATE-TIME:20260330T230251Z
LOCATION:Seattle Program Center
URL:https://www.mountaineers.org/locations-lodges/seattle-program-center/e
 vents/foothills-basic-crevasse-rescue-instructor-practice
END:VEVENT
BEGIN:VTIMEZONE
TZID:America/Los_Angeles
X-LIC-LOCATION:America/Los_Angeles
BEGIN:DAYLIGHT
DTSTART;VALUE=DATE-TIME:20260308T030000
TZNAME:PDT
TZOFFSETFROM:-0800
TZOFFSETTO:-0700
END:DAYLIGHT
END:VTIMEZONE
END:VCALENDAR
