BEGIN:VCALENDAR
VERSION:2.0
PRODID:-//Plone.org//NONSGML plone.app.event//EN
X-WR-TIMEZONE:US/Pacific
BEGIN:VEVENT
SUMMARY:Everett Annual Awards Celebration and Banquet
DTSTART;VALUE=DATE-TIME:20271106T173000
DTEND;VALUE=DATE-TIME:20271106T220000
DTSTAMP;VALUE=DATE-TIME:20260420T221056Z
UID:34f259bf1894408a973c6eadf0efbccc@localhost:6081
CREATED;VALUE=DATE-TIME:20260122T030326Z
DESCRIPTION:Join us for the Everett Annual Awards Celebration and Banquet 
 at the Seattle Program Center on Saturday\, November 7th. Enjoy a 4-course
  dinner and drinks with your fellow Mountaineers\, celebrate our awardees 
 and course graduates\, and get inspired by our keynote presentation.
LAST-MODIFIED;VALUE=DATE-TIME:20260209T201010Z
LOCATION:Seattle Program Center
URL:https://www.mountaineers.org/locations-lodges/seattle-program-center/e
 vents/everett-annual-awards-celebration-and-banquet-2027-11-06
END:VEVENT
BEGIN:VTIMEZONE
TZID:America/Los_Angeles
X-LIC-LOCATION:America/Los_Angeles
BEGIN:DAYLIGHT
DTSTART;VALUE=DATE-TIME:20270314T030000
TZNAME:PDT
TZOFFSETFROM:-0800
TZOFFSETTO:-0700
END:DAYLIGHT
END:VTIMEZONE
END:VCALENDAR
