BEGIN:VCALENDAR
VERSION:2.0
PRODID:-//Plone.org//NONSGML plone.app.event//EN
X-WR-TIMEZONE:US/Pacific
BEGIN:VEVENT
SUMMARY:Evening Friction Clinic
DTSTART;VALUE=DATE-TIME:20260507T183000
DTEND;VALUE=DATE-TIME:20260507T203000
DTSTAMP;VALUE=DATE-TIME:20260422T052107Z
UID:f83787396e504a6d802122465789d8bd@localhost:6081
CREATED;VALUE=DATE-TIME:20260421T172443Z
DESCRIPTION:Learn how to move on rock. Friction climbing clinic at the Sea
 ttle PC. Intended for this year's Basic and Scramble students but open to 
 all Mountaineers.
LAST-MODIFIED;VALUE=DATE-TIME:20260421T224601Z
LOCATION:Seattle Program Center
URL:https://www.mountaineers.org/locations-lodges/seattle-program-center/e
 vents/evening-friction-clinic-1-2026-05-07
END:VEVENT
BEGIN:VTIMEZONE
TZID:America/Los_Angeles
X-LIC-LOCATION:America/Los_Angeles
BEGIN:DAYLIGHT
DTSTART;VALUE=DATE-TIME:20260308T030000
TZNAME:PDT
TZOFFSETFROM:-0800
TZOFFSETTO:-0700
END:DAYLIGHT
END:VTIMEZONE
END:VCALENDAR
