BEGIN:VCALENDAR
VERSION:2.0
PRODID:-//Plone.org//NONSGML plone.app.event//EN
X-WR-TIMEZONE:US/Pacific
BEGIN:VEVENT
SUMMARY:End of Summer Bash
DTSTART;VALUE=DATE-TIME:20220915T170000
DTEND;VALUE=DATE-TIME:20220915T200000
DTSTAMP;VALUE=DATE-TIME:20260419T174555Z
UID:c49c91371d5e410188eedc6a38be7248@localhost:6081
CREATED;VALUE=DATE-TIME:20220727T230546Z
DESCRIPTION:Join us on September 15 for our End of Summer Bash hosted by R
 EI.  Adults 21 and over can enjoy a fun night of food\, drinks\, and music
  on the outdoor terrace at REI Seattle’s Flagship Store.
LAST-MODIFIED;VALUE=DATE-TIME:20220913T233011Z
LOCATION:REI Seattle Flagship Store
URL:https://www.mountaineers.org/locations-lodges/seattle-program-center/e
 vents/end-of-summer-bash
END:VEVENT
BEGIN:VTIMEZONE
TZID:America/Los_Angeles
X-LIC-LOCATION:America/Los_Angeles
BEGIN:DAYLIGHT
DTSTART;VALUE=DATE-TIME:20220313T030000
TZNAME:PDT
TZOFFSETFROM:-0800
TZOFFSETTO:-0700
END:DAYLIGHT
END:VTIMEZONE
END:VCALENDAR
