BEGIN:VCALENDAR
VERSION:2.0
PRODID:-//Plone.org//NONSGML plone.app.event//EN
X-WR-TIMEZONE:US/Pacific
BEGIN:VEVENT
SUMMARY:Dr. Randall Chesnut\, Climber and Harborview Neurosurgeon on Head 
 Trauma
DTSTART;VALUE=DATE-TIME:20190417T190000
DTEND;VALUE=DATE-TIME:20190417T210000
DTSTAMP;VALUE=DATE-TIME:20260420T234149Z
UID:748f6e83ade7488e8fb8f43dd5ec9be7@localhost:6081
CREATED;VALUE=DATE-TIME:20181201T010650Z
DESCRIPTION:As Mountaineers\, how do we recognize and deal with head traum
 a in the backcountry? Hear interesting facts about climbing and head traum
 a from Dr. Randall Chesnut a neuro critical care doctor at Harborview Medi
 cal Center. 
LAST-MODIFIED;VALUE=DATE-TIME:20190410T223926Z
LOCATION:Seattle Program Center
URL:https://www.mountaineers.org/locations-lodges/seattle-program-center/e
 vents/dr-randall-chesnut-climber-and-harborview-neurosurgeon-on-head-traum
 a
END:VEVENT
BEGIN:VTIMEZONE
TZID:America/Los_Angeles
X-LIC-LOCATION:America/Los_Angeles
BEGIN:DAYLIGHT
DTSTART;VALUE=DATE-TIME:20190310T030000
TZNAME:PDT
TZOFFSETFROM:-0800
TZOFFSETTO:-0700
END:DAYLIGHT
END:VTIMEZONE
END:VCALENDAR
