BEGIN:VCALENDAR
VERSION:2.0
PRODID:-//Plone.org//NONSGML plone.app.event//EN
X-WR-TIMEZONE:US/Pacific
BEGIN:VEVENT
SUMMARY:Crack Climbing Clinic / Seminar
DTSTART;VALUE=DATE-TIME:20260521T173000
DTEND;VALUE=DATE-TIME:20260521T210000
DTSTAMP;VALUE=DATE-TIME:20260423T041043Z
UID:7b373914922d421eb8a38e2e2be166e9@localhost:6081
CREATED;VALUE=DATE-TIME:20260405T162635Z
DESCRIPTION:Improve your crack climbing technique with instruction and pra
 ctice on the Program Center basalt columns.
LAST-MODIFIED;VALUE=DATE-TIME:20260422T234914Z
LOCATION:Seattle Program Center
URL:https://www.mountaineers.org/locations-lodges/seattle-program-center/e
 vents/crack-climbing-clinic-seminar-2026-05-21
END:VEVENT
BEGIN:VTIMEZONE
TZID:America/Los_Angeles
X-LIC-LOCATION:America/Los_Angeles
BEGIN:DAYLIGHT
DTSTART;VALUE=DATE-TIME:20260308T030000
TZNAME:PDT
TZOFFSETFROM:-0800
TZOFFSETTO:-0700
END:DAYLIGHT
END:VTIMEZONE
END:VCALENDAR
