BEGIN:VCALENDAR
VERSION:2.0
PRODID:-//Plone.org//NONSGML plone.app.event//EN
X-WR-TIMEZONE:US/Pacific
BEGIN:VEVENT
SUMMARY:Bloodworks NW Blood Drive
DTSTART;VALUE=DATE-TIME:20200929T100000
DTEND;VALUE=DATE-TIME:20200929T180000
DTSTAMP;VALUE=DATE-TIME:20260423T151914Z
UID:4408f935578240b0ba4781d5b71fdffc@localhost:6081
CREATED;VALUE=DATE-TIME:20200820T204732Z
DESCRIPTION:Mountaineers Blood Drive with Bloodworks NW
LAST-MODIFIED;VALUE=DATE-TIME:20200827T165832Z
LOCATION:Seattle Program Center
URL:https://www.mountaineers.org/locations-lodges/seattle-program-center/e
 vents/copy_of_nw-bloodworks-blood-drive
END:VEVENT
BEGIN:VTIMEZONE
TZID:America/Los_Angeles
X-LIC-LOCATION:America/Los_Angeles
BEGIN:DAYLIGHT
DTSTART;VALUE=DATE-TIME:20200308T030000
TZNAME:PDT
TZOFFSETFROM:-0800
TZOFFSETTO:-0700
END:DAYLIGHT
END:VTIMEZONE
END:VCALENDAR
