BEGIN:VCALENDAR
VERSION:2.0
PRODID:-//Plone.org//NONSGML plone.app.event//EN
X-WR-TIMEZONE:US/Pacific
BEGIN:VEVENT
SUMMARY:Seattle Canyoning Committee
DTSTART;VALUE=DATE-TIME:20190522T190000
DTEND;VALUE=DATE-TIME:20190522T210000
DTSTAMP;VALUE=DATE-TIME:20260419T174614Z
UID:70645aa4e7ed46fdb5057da51a7a72de@localhost:6081
CREATED;VALUE=DATE-TIME:20190212T055855Z
DESCRIPTION:Monthly Committee meeting
LAST-MODIFIED;VALUE=DATE-TIME:20190418T052539Z
LOCATION:Seattle Program Center
URL:https://www.mountaineers.org/locations-lodges/seattle-program-center/e
 vents/copy2_of_seattle-canyoning-committee
END:VEVENT
BEGIN:VTIMEZONE
TZID:America/Los_Angeles
X-LIC-LOCATION:America/Los_Angeles
BEGIN:DAYLIGHT
DTSTART;VALUE=DATE-TIME:20190310T030000
TZNAME:PDT
TZOFFSETFROM:-0800
TZOFFSETTO:-0700
END:DAYLIGHT
END:VTIMEZONE
END:VCALENDAR
