BEGIN:VCALENDAR
VERSION:2.0
PRODID:-//Plone.org//NONSGML plone.app.event//EN
X-WR-TIMEZONE:US/Pacific
BEGIN:VEVENT
SUMMARY:Seattle Climbing Committee
DTSTART;VALUE=DATE-TIME:20201110T190000
DTEND;VALUE=DATE-TIME:20201110T210000
DTSTAMP;VALUE=DATE-TIME:20260420T234116Z
UID:cde3d7ebdbfa4f99a55b91a235849e53@localhost:6081
CREATED;VALUE=DATE-TIME:20190131T195604Z
DESCRIPTION:Monthly meeting of the Seattle Climbing Committee
LAST-MODIFIED;VALUE=DATE-TIME:20201007T164409Z
LOCATION:Seattle Program Center
URL:https://www.mountaineers.org/locations-lodges/seattle-program-center/e
 vents/copy19_of_seattle-climbing-committee-22
END:VEVENT
BEGIN:VTIMEZONE
TZID:America/Los_Angeles
X-LIC-LOCATION:America/Los_Angeles
BEGIN:STANDARD
DTSTART;VALUE=DATE-TIME:20201101T010000
TZNAME:PST
TZOFFSETFROM:-0700
TZOFFSETTO:-0800
END:STANDARD
END:VTIMEZONE
END:VCALENDAR
