BEGIN:VCALENDAR
VERSION:2.0
PRODID:-//Plone.org//NONSGML plone.app.event//EN
X-WR-TIMEZONE:US/Pacific
BEGIN:VEVENT
SUMMARY:Climbing Summit
DTSTART;VALUE=DATE-TIME:20261025T090000
DTEND;VALUE=DATE-TIME:20261025T160000
DTSTAMP;VALUE=DATE-TIME:20260421T164113Z
UID:699d46f99faa4d0789834c3c3bee9373@localhost:6081
CREATED;VALUE=DATE-TIME:20251218T202957Z
DESCRIPTION:2026 Climbing Summit
LAST-MODIFIED;VALUE=DATE-TIME:20260107T213232Z
LOCATION:Seattle Program Center
URL:https://www.mountaineers.org/locations-lodges/seattle-program-center/e
 vents/climbing-summit-6
END:VEVENT
BEGIN:VTIMEZONE
TZID:America/Los_Angeles
X-LIC-LOCATION:America/Los_Angeles
BEGIN:DAYLIGHT
DTSTART;VALUE=DATE-TIME:20260308T030000
TZNAME:PDT
TZOFFSETFROM:-0800
TZOFFSETTO:-0700
END:DAYLIGHT
END:VTIMEZONE
END:VCALENDAR
