BEGIN:VCALENDAR
VERSION:2.0
PRODID:-//Plone.org//NONSGML plone.app.event//EN
X-WR-TIMEZONE:US/Pacific
BEGIN:VEVENT
SUMMARY:Climate Change Speaker Series: The Big Thaw 
DTSTART;VALUE=DATE-TIME:20210427T190000
DTEND;VALUE=DATE-TIME:20210427T200000
DTSTAMP;VALUE=DATE-TIME:20260420T081942Z
UID:24ef7a9de4e34cb1891c0ba87cc40107@localhost:6081
CREATED;VALUE=DATE-TIME:20210319T202528Z
DESCRIPTION:Mountaineers Books and Braided River author Eric Scigliano wil
 l take us to some of Earth’s northernmost wild places and share the role
  of thawing permafrost in the climate crisis. The author of The Big Thaw\,
  a 2020 Washington State Book Award winner\, will discuss how quickly the 
 permafrost is thawing\, what its impact will be\, and how a new generation
  of scientists can imagine innovative solutions to global problems. This i
 s the second event in our Climate Change Speaker Series. 
LAST-MODIFIED;VALUE=DATE-TIME:20210322T202016Z
LOCATION:Virtual Event
URL:https://www.mountaineers.org/locations-lodges/seattle-program-center/e
 vents/climate-change-speaker-series-the-big-thaw
END:VEVENT
BEGIN:VTIMEZONE
TZID:America/Los_Angeles
X-LIC-LOCATION:America/Los_Angeles
BEGIN:DAYLIGHT
DTSTART;VALUE=DATE-TIME:20210314T030000
TZNAME:PDT
TZOFFSETFROM:-0800
TZOFFSETTO:-0700
END:DAYLIGHT
END:VTIMEZONE
END:VCALENDAR
