BEGIN:VCALENDAR
VERSION:2.0
PRODID:-//Plone.org//NONSGML plone.app.event//EN
X-WR-TIMEZONE:US/Pacific
BEGIN:VEVENT
SUMMARY:Climate Change Speaker Series: Climate Reality 2021
DTSTART;VALUE=DATE-TIME:20210420T190000
DTEND;VALUE=DATE-TIME:20210420T200000
DTSTAMP;VALUE=DATE-TIME:20260420T081857Z
UID:0824cc6f0a954903b75799a547ce541c@localhost:6081
CREATED;VALUE=DATE-TIME:20210319T201355Z
DESCRIPTION:Join Mountaineers member Dr. Sunny Remington Doucette for an o
 verview of recent climate-related events around the world and their dispro
 portionate impact on vulnerable populations. Learn more about climate just
 ice and how we can help ensure a just future. This event is the first in o
 ur Climate Change Speaker Series. 
LAST-MODIFIED;VALUE=DATE-TIME:20210419T165213Z
LOCATION:Virtual Event
URL:https://www.mountaineers.org/locations-lodges/seattle-program-center/e
 vents/climate-change-speaker-series-climate-reality-2021
END:VEVENT
BEGIN:VTIMEZONE
TZID:America/Los_Angeles
X-LIC-LOCATION:America/Los_Angeles
BEGIN:DAYLIGHT
DTSTART;VALUE=DATE-TIME:20210314T030000
TZNAME:PDT
TZOFFSETFROM:-0800
TZOFFSETTO:-0700
END:DAYLIGHT
END:VTIMEZONE
END:VCALENDAR
