BEGIN:VCALENDAR
VERSION:2.0
PRODID:-//Plone.org//NONSGML plone.app.event//EN
X-WR-TIMEZONE:US/Pacific
BEGIN:VEVENT
SUMMARY:Bikes and Brews Series- Bikepacking the Cross Washington Route wit
 h Annie Bilotta and Keri Bergere
DTSTART;VALUE=DATE-TIME:20240220T183000
DTEND;VALUE=DATE-TIME:20240220T203000
DTSTAMP;VALUE=DATE-TIME:20260419T123834Z
UID:b031aa923f234ed495092a9af49126c5@localhost:6081
CREATED;VALUE=DATE-TIME:20231024T224530Z
DESCRIPTION:The third installment of our new series "Bikes and Brews" will
  take you along the Cross-Washington Route\, a mostly off-road traverse of
  Washington State from La Push on the PacificOcean to the Idaho border in 
 Tekoa.  Come hear about Annie and Keri's race to complete this incredibly 
 challenging route two years in a row!
LAST-MODIFIED;VALUE=DATE-TIME:20240218T162608Z
LOCATION:Seattle Program Center
URL:https://www.mountaineers.org/locations-lodges/seattle-program-center/e
 vents/bikes-and-brews-series-bikepacking-the-cross-washington-route-with-a
 nnie-bilotta-and-keri-bergere
END:VEVENT
BEGIN:VTIMEZONE
TZID:America/Los_Angeles
X-LIC-LOCATION:America/Los_Angeles
BEGIN:STANDARD
DTSTART;VALUE=DATE-TIME:20231105T010000
TZNAME:PST
TZOFFSETFROM:-0700
TZOFFSETTO:-0800
END:STANDARD
END:VTIMEZONE
END:VCALENDAR
