BEGIN:VCALENDAR
VERSION:2.0
PRODID:-//Plone.org//NONSGML plone.app.event//EN
X-WR-TIMEZONE:US/Pacific
BEGIN:VEVENT
SUMMARY:Bikes and Brews  Series - Bikepacking Routes: Bikepacking the "Gre
 at Northern Bikepacking Route" from Victoria to Pemberton with Emma Agosta
  and Nina Crampton
DTSTART;VALUE=DATE-TIME:20240122T183000
DTEND;VALUE=DATE-TIME:20240122T203000
DTSTAMP;VALUE=DATE-TIME:20260419T153954Z
UID:44d7235d55e0475f97b946578c947b40@localhost:6081
CREATED;VALUE=DATE-TIME:20231016T193134Z
DESCRIPTION:Join us for the second event of the new "Bike and Brews" bikep
 acking routes series and hear about Emma and Nina's 12-days bikepacking tr
 ip on the new  "Great Northern Bikepacking Route" from Victoria to Pembert
 on in British Columbia last August.
LAST-MODIFIED;VALUE=DATE-TIME:20240105T000729Z
LOCATION:Seattle Program Center
URL:https://www.mountaineers.org/locations-lodges/seattle-program-center/e
 vents/bike-and-brews-series-bikepacking-routes-bikepacking-the-tree-to-sea
 -route-with-david-bryan-2024-01-22
END:VEVENT
BEGIN:VTIMEZONE
TZID:America/Los_Angeles
X-LIC-LOCATION:America/Los_Angeles
BEGIN:STANDARD
DTSTART;VALUE=DATE-TIME:20231105T010000
TZNAME:PST
TZOFFSETFROM:-0700
TZOFFSETTO:-0800
END:STANDARD
END:VTIMEZONE
END:VCALENDAR
