BEGIN:VCALENDAR
VERSION:2.0
PRODID:-//Plone.org//NONSGML plone.app.event//EN
X-WR-TIMEZONE:US/Pacific
BEGIN:VEVENT
SUMMARY:BeWild Speaker Series: Thru-Hiking Fabulously & Farther With Deric
 k Lugo & Heather Anderson
DTSTART;VALUE=DATE-TIME:20260305T183000
DTEND;VALUE=DATE-TIME:20260305T203000
DTSTAMP;VALUE=DATE-TIME:20260422T121210Z
UID:7bf38825cb7844048a97fecc548a49fb@localhost:6081
CREATED;VALUE=DATE-TIME:20260107T235104Z
DESCRIPTION:Join us for a lively\, story-filled conversation with renowned
  thru-hikers Derick Lugo and Heather Anderson as they dive into their new 
 Mountaineers Books titles\, "A Fabulous Thru-Hike" and "Farther".
LAST-MODIFIED;VALUE=DATE-TIME:20260304T170152Z
LOCATION:Seattle Program Center
URL:https://www.mountaineers.org/locations-lodges/seattle-program-center/e
 vents/bewildthruhiking
END:VEVENT
BEGIN:VTIMEZONE
TZID:America/Los_Angeles
X-LIC-LOCATION:America/Los_Angeles
BEGIN:STANDARD
DTSTART;VALUE=DATE-TIME:20251102T010000
TZNAME:PST
TZOFFSETFROM:-0700
TZOFFSETTO:-0800
END:STANDARD
END:VTIMEZONE
END:VCALENDAR
