BEGIN:VCALENDAR
VERSION:2.0
PRODID:-//Plone.org//NONSGML plone.app.event//EN
X-WR-TIMEZONE:US/Pacific
BEGIN:VEVENT
SUMMARY:BeWild: Hiking the PCT
DTSTART;VALUE=DATE-TIME:20180522T190000
DTEND;VALUE=DATE-TIME:20180522T210000
DTSTAMP;VALUE=DATE-TIME:20260422T222817Z
UID:cf45d568d64d4c4b8d35b44bd696496e@localhost:6081
CREATED;VALUE=DATE-TIME:20161107T184114Z
DESCRIPTION:The BeWild Speaker Series puts passion and adventure at center
  stage. Join us to find inspiration to seek adventure\, connect with natur
 e\, and protect the wild places where we play. 
LAST-MODIFIED;VALUE=DATE-TIME:20180501T152432Z
LOCATION:Seattle Program Center
URL:https://www.mountaineers.org/locations-lodges/seattle-program-center/e
 vents/bewild-hiking-the-pct
END:VEVENT
BEGIN:VTIMEZONE
TZID:America/Los_Angeles
X-LIC-LOCATION:America/Los_Angeles
BEGIN:DAYLIGHT
DTSTART;VALUE=DATE-TIME:20180311T030000
TZNAME:PDT
TZOFFSETFROM:-0800
TZOFFSETTO:-0700
END:DAYLIGHT
END:VTIMEZONE
END:VCALENDAR
