BEGIN:VCALENDAR
VERSION:2.0
PRODID:-//Plone.org//NONSGML plone.app.event//EN
X-WR-TIMEZONE:US/Pacific
BEGIN:VEVENT
SUMMARY:BeWild with Vik Sahney
DTSTART;VALUE=DATE-TIME:20200910T190000
DTEND;VALUE=DATE-TIME:20200910T210000
DTSTAMP;VALUE=DATE-TIME:20260423T152642Z
UID:9bd3bd2b6d6e4f3fbeda747e7d61f798@localhost:6081
CREATED;VALUE=DATE-TIME:20190102T162717Z
DESCRIPTION:Vik is an avid outdoor adventurer\, and in 2011 he became one 
 of ~350 people and the first Indian-American to complete the 7 Summits\, s
 ummiting the tallest peak on each continent including Mt. Everest (May 200
 9). Join us to hear Vik's story of adversity and persistence to climb to t
 he top.
LAST-MODIFIED;VALUE=DATE-TIME:20200908T144445Z
LOCATION:Virtual Event
URL:https://www.mountaineers.org/locations-lodges/seattle-program-center/e
 vents/bewild-2020-speaker-series-vik-sahney
END:VEVENT
BEGIN:VTIMEZONE
TZID:America/Los_Angeles
X-LIC-LOCATION:America/Los_Angeles
BEGIN:DAYLIGHT
DTSTART;VALUE=DATE-TIME:20200308T030000
TZNAME:PDT
TZOFFSETFROM:-0800
TZOFFSETTO:-0700
END:DAYLIGHT
END:VTIMEZONE
END:VCALENDAR
