BEGIN:VCALENDAR
VERSION:2.0
PRODID:-//Plone.org//NONSGML plone.app.event//EN
X-WR-TIMEZONE:US/Pacific
BEGIN:VEVENT
SUMMARY:Beta & Brews: East Ridge of Forbidden Peak
DTSTART;VALUE=DATE-TIME:20200423T190000
DTEND;VALUE=DATE-TIME:20200423T203000
DTSTAMP;VALUE=DATE-TIME:20260419T174555Z
UID:fa5d79d7f36f4548b69d77797b461b74@localhost:6081
CREATED;VALUE=DATE-TIME:20200403T211011Z
DESCRIPTION:A virtual Beta & Brews via a live Zoom presentation by Jacob W
 olniewicz on his climb of Forbidden Peak. Have a beer (at home) with us an
 d watch the presentation!
LAST-MODIFIED;VALUE=DATE-TIME:20200527T222621Z
LOCATION:Zoom video presentation
URL:https://www.mountaineers.org/locations-lodges/seattle-program-center/e
 vents/beta-brews-forbidden-peak
END:VEVENT
BEGIN:VTIMEZONE
TZID:America/Los_Angeles
X-LIC-LOCATION:America/Los_Angeles
BEGIN:DAYLIGHT
DTSTART;VALUE=DATE-TIME:20200308T030000
TZNAME:PDT
TZOFFSETFROM:-0800
TZOFFSETTO:-0700
END:DAYLIGHT
END:VTIMEZONE
END:VCALENDAR
