BEGIN:VCALENDAR
VERSION:2.0
PRODID:-//Plone.org//NONSGML plone.app.event//EN
X-WR-TIMEZONE:US/Pacific
BEGIN:VEVENT
SUMMARY:Beta and Brews: Self-Rescue Workshop with Ian Nicholson
DTSTART;VALUE=DATE-TIME:20240403T183000
DTEND;VALUE=DATE-TIME:20240403T210000
DTSTAMP;VALUE=DATE-TIME:20260421T020240Z
UID:72ab1fcb91d7439c884490b82baf7265@localhost:6081
CREATED;VALUE=DATE-TIME:20240305T214322Z
DESCRIPTION:Join Ian Nicholson\, author of "Climbing Self-Rescue\," for a 
 free clinic and talk detailing important self-rescue techniques.
LAST-MODIFIED;VALUE=DATE-TIME:20240402T231006Z
LOCATION:Seattle Program Center
URL:https://www.mountaineers.org/locations-lodges/seattle-program-center/e
 vents/beta-and-brews-self-rescue-workshop-with-ian-nicholson
END:VEVENT
BEGIN:VTIMEZONE
TZID:America/Los_Angeles
X-LIC-LOCATION:America/Los_Angeles
BEGIN:DAYLIGHT
DTSTART;VALUE=DATE-TIME:20240310T030000
TZNAME:PDT
TZOFFSETFROM:-0800
TZOFFSETTO:-0700
END:DAYLIGHT
END:VTIMEZONE
END:VCALENDAR
