BEGIN:VCALENDAR
VERSION:2.0
PRODID:-//Plone.org//NONSGML plone.app.event//EN
X-WR-TIMEZONE:US/Pacific
BEGIN:VEVENT
SUMMARY:BETA AND BREWS: Bulger List
DTSTART;VALUE=DATE-TIME:20161117T190000
DTEND;VALUE=DATE-TIME:20161117T210000
DTSTAMP;VALUE=DATE-TIME:20260420T234041Z
UID:c13e39c027004b848f41cd57892f77d4@localhost:6081
CREATED;VALUE=DATE-TIME:20161017T154909Z
DESCRIPTION:A casual get together of The Mountaineers climbing community t
 o socialize and learn about routes in the PNW and beyond.
LAST-MODIFIED;VALUE=DATE-TIME:20161020T163910Z
LOCATION:Seattle Program Center
URL:https://www.mountaineers.org/locations-lodges/seattle-program-center/e
 vents/beta-and-brews-bulger-list
END:VEVENT
BEGIN:VTIMEZONE
TZID:America/Los_Angeles
X-LIC-LOCATION:America/Los_Angeles
BEGIN:STANDARD
DTSTART;VALUE=DATE-TIME:20161106T010000
TZNAME:PST
TZOFFSETFROM:-0700
TZOFFSETTO:-0800
END:STANDARD
END:VTIMEZONE
END:VCALENDAR
