BEGIN:VCALENDAR
VERSION:2.0
PRODID:-//Plone.org//NONSGML plone.app.event//EN
X-WR-TIMEZONE:US/Pacific
BEGIN:VEVENT
SUMMARY:Become a Lookout Steward Today!
DTSTART;VALUE=DATE-TIME:20160711T190000
DTEND;VALUE=DATE-TIME:20160711T210000
DTSTAMP;VALUE=DATE-TIME:20260421T011149Z
UID:e4be07b08758473e9b33a0addff0c97e@localhost:6081
CREATED;VALUE=DATE-TIME:20160611T011042Z
DESCRIPTION:Listen to members of the Everett Branch's Lookout and Train Ma
 intenance Committee discuss their stewardship efforts and how you can get 
 involved!
LAST-MODIFIED;VALUE=DATE-TIME:20160629T194550Z
LOCATION:Seattle Program Center
URL:https://www.mountaineers.org/locations-lodges/seattle-program-center/e
 vents/become-a-lookout-steward-today
END:VEVENT
BEGIN:VTIMEZONE
TZID:America/Los_Angeles
X-LIC-LOCATION:America/Los_Angeles
BEGIN:DAYLIGHT
DTSTART;VALUE=DATE-TIME:20160313T030000
TZNAME:PDT
TZOFFSETFROM:-0800
TZOFFSETTO:-0700
END:DAYLIGHT
END:VTIMEZONE
END:VCALENDAR
