BEGIN:VCALENDAR
VERSION:2.0
PRODID:-//Plone.org//NONSGML plone.app.event//EN
X-WR-TIMEZONE:US/Pacific
BEGIN:VEVENT
SUMMARY:Basic Glacier Travel - Optional Practice Night
DTSTART;VALUE=DATE-TIME:20260506T180000
DTEND;VALUE=DATE-TIME:20260506T210000
DTSTAMP;VALUE=DATE-TIME:20260420T064313Z
UID:893c4692ba4947108fdfa3eb0e7e5a15@localhost:6081
CREATED;VALUE=DATE-TIME:20260329T161307Z
DESCRIPTION:Open practice session for Basic Glacier Travel students.
LAST-MODIFIED;VALUE=DATE-TIME:20260330T230247Z
LOCATION:Seattle Program Center
URL:https://www.mountaineers.org/locations-lodges/seattle-program-center/e
 vents/basic-glacier-travel-optional-practice-night-1
END:VEVENT
BEGIN:VTIMEZONE
TZID:America/Los_Angeles
X-LIC-LOCATION:America/Los_Angeles
BEGIN:DAYLIGHT
DTSTART;VALUE=DATE-TIME:20260308T030000
TZNAME:PDT
TZOFFSETFROM:-0800
TZOFFSETTO:-0700
END:DAYLIGHT
END:VTIMEZONE
END:VCALENDAR
