BEGIN:VCALENDAR
VERSION:2.0
PRODID:-//Plone.org//NONSGML plone.app.event//EN
X-WR-TIMEZONE:US/Pacific
BEGIN:VEVENT
SUMMARY:Bad Movie Night - August 18
DTSTART;VALUE=DATE-TIME:20160818T190000
DTEND;VALUE=DATE-TIME:20160818T220000
DTSTAMP;VALUE=DATE-TIME:20260420T234116Z
UID:9143817fce5543ebadf5c58a848e308d@localhost:6081
CREATED;VALUE=DATE-TIME:20160119T195411Z
DESCRIPTION:Join The Mountaineers and Arc'teryx in attending a terrible ad
 venture movie. The Mountaineers will provide the movie and popcorn\, and a
  raffle from Arc'teryx. This is your outdoor movie experience but indoors 
 so bring food\, lawn chairs/beanbags/thermarests\, and of course your best
  heckling. Rainier beer will be available for $2.00/pint.
LAST-MODIFIED;VALUE=DATE-TIME:20160803T041922Z
LOCATION:Seattle Program Center
URL:https://www.mountaineers.org/locations-lodges/seattle-program-center/e
 vents/bad-movie-night-august-18
END:VEVENT
BEGIN:VTIMEZONE
TZID:America/Los_Angeles
X-LIC-LOCATION:America/Los_Angeles
BEGIN:DAYLIGHT
DTSTART;VALUE=DATE-TIME:20160313T030000
TZNAME:PDT
TZOFFSETFROM:-0800
TZOFFSETTO:-0700
END:DAYLIGHT
END:VTIMEZONE
END:VCALENDAR
