BEGIN:VCALENDAR
VERSION:2.0
PRODID:-//Plone.org//NONSGML plone.app.event//EN
X-WR-TIMEZONE:US/Pacific
BEGIN:VEVENT
SUMMARY:Bad Movie Night - April 6
DTSTART;VALUE=DATE-TIME:20220406T190000
DTEND;VALUE=DATE-TIME:20220406T213000
DTSTAMP;VALUE=DATE-TIME:20260420T234142Z
UID:0f81f4173d0a47aa88d3b50cbc6b78dc@localhost:6081
CREATED;VALUE=DATE-TIME:20220309T224856Z
DESCRIPTION:It's been over five years\, and we are THRILLED to bring back 
 Bad Movie Night\, the premier event you didn't know you needed in your lif
 e. Join us on April 6 to experience the magic of heckling a bad adventure 
 movie with your new outdoor friends.
LAST-MODIFIED;VALUE=DATE-TIME:20220406T175904Z
LOCATION:Seattle Program Center
URL:https://www.mountaineers.org/locations-lodges/seattle-program-center/e
 vents/bad-movie-night-april-6-2022
END:VEVENT
BEGIN:VTIMEZONE
TZID:America/Los_Angeles
X-LIC-LOCATION:America/Los_Angeles
BEGIN:DAYLIGHT
DTSTART;VALUE=DATE-TIME:20220313T030000
TZNAME:PDT
TZOFFSETFROM:-0800
TZOFFSETTO:-0700
END:DAYLIGHT
END:VTIMEZONE
END:VCALENDAR
