BEGIN:VCALENDAR
VERSION:2.0
PRODID:-//Plone.org//NONSGML plone.app.event//EN
X-WR-TIMEZONE:US/Pacific
BEGIN:VEVENT
SUMMARY:AWRA (private event hold)
DTSTART;VALUE=DATE-TIME:20261008T090000
DTEND;VALUE=DATE-TIME:20261008T220000
DTSTAMP;VALUE=DATE-TIME:20260423T034900Z
UID:3d372904da8c4ed7b91de79064b1ba2b@localhost:6081
CREATED;VALUE=DATE-TIME:20260402T192603Z
DESCRIPTION:AWRA (private event hold)
LAST-MODIFIED;VALUE=DATE-TIME:20260402T192613Z
LOCATION:Seattle Program Center
URL:https://www.mountaineers.org/locations-lodges/seattle-program-center/e
 vents/awra-private-event-hold
END:VEVENT
BEGIN:VTIMEZONE
TZID:America/Los_Angeles
X-LIC-LOCATION:America/Los_Angeles
BEGIN:DAYLIGHT
DTSTART;VALUE=DATE-TIME:20260308T030000
TZNAME:PDT
TZOFFSETFROM:-0800
TZOFFSETTO:-0700
END:DAYLIGHT
END:VTIMEZONE
END:VCALENDAR
