BEGIN:VCALENDAR
VERSION:2.0
PRODID:-//Plone.org//NONSGML plone.app.event//EN
X-WR-TIMEZONE:US/Pacific
BEGIN:VEVENT
SUMMARY:Arc'teryx Bad Movie Night
DTSTART;VALUE=DATE-TIME:20150826T193000
DTEND;VALUE=DATE-TIME:20150826T223000
DTSTAMP;VALUE=DATE-TIME:20260420T234115Z
UID:0d572c7584b44000af618deefc1c74df@localhost:6081
CREATED;VALUE=DATE-TIME:20150618T183703Z
DESCRIPTION:Join The Mountaineers and Arc'teryx in attending a terrible cl
 imbing movie. The Mountaineers will provide the movie and popcorn\, and a 
 raffle from Arc'teryx. You should BYOE (bring your own everything)\; food\
 , lawn chairs/beanbags/thermarests\, beverages\, and of course your best h
 eckling. 
LAST-MODIFIED;VALUE=DATE-TIME:20150827T173835Z
LOCATION:Seattle Program Center
URL:https://www.mountaineers.org/locations-lodges/seattle-program-center/e
 vents/arcteryx-bad-movie-night
END:VEVENT
BEGIN:VTIMEZONE
TZID:America/Los_Angeles
X-LIC-LOCATION:America/Los_Angeles
BEGIN:DAYLIGHT
DTSTART;VALUE=DATE-TIME:20150308T030000
TZNAME:PDT
TZOFFSETFROM:-0800
TZOFFSETTO:-0700
END:DAYLIGHT
END:VTIMEZONE
END:VCALENDAR
