BEGIN:VCALENDAR
VERSION:2.0
PRODID:-//Plone.org//NONSGML plone.app.event//EN
X-WR-TIMEZONE:US/Pacific
BEGIN:VEVENT
SUMMARY:An Evening of Advocacy 2025
DTSTART;VALUE=DATE-TIME:20250918T180000
DTEND;VALUE=DATE-TIME:20250918T210000
DTSTAMP;VALUE=DATE-TIME:20260420T114031Z
UID:86446fd8c2ef40c7a3fe6a9d3cb093ec@localhost:6081
CREATED;VALUE=DATE-TIME:20250620T222712Z
DESCRIPTION:An Evening of Advocacy is our signature fundraising event supp
 orting The Mountaineers Conservation and Advocacy program. Join us for an 
 evening of food\, drinks\, community and an insightful conversation about 
 defending and advocating for our public lands.
LAST-MODIFIED;VALUE=DATE-TIME:20251107T154331Z
LOCATION:Seattle Program Center
URL:https://www.mountaineers.org/locations-lodges/seattle-program-center/e
 vents/an-evening-of-advocacy-2025
END:VEVENT
BEGIN:VTIMEZONE
TZID:America/Los_Angeles
X-LIC-LOCATION:America/Los_Angeles
BEGIN:DAYLIGHT
DTSTART;VALUE=DATE-TIME:20250309T030000
TZNAME:PDT
TZOFFSETFROM:-0800
TZOFFSETTO:-0700
END:DAYLIGHT
END:VTIMEZONE
END:VCALENDAR
