BEGIN:VCALENDAR
VERSION:2.0
PRODID:-//Plone.org//NONSGML plone.app.event//EN
X-WR-TIMEZONE:US/Pacific
BEGIN:VEVENT
SUMMARY:After-School Fall Expeditions
DTSTART;VALUE=DATE-TIME:20251023T160000
DTEND;VALUE=DATE-TIME:20251023T180000
DTSTAMP;VALUE=DATE-TIME:20260420T020957Z
UID:55f2c3e455ca4751a5a8eba01ee4e964@localhost:6081
CREATED;VALUE=DATE-TIME:20250826T223431Z
DESCRIPTION:After School Expedition Program teaches kids ages 10 - 12 esse
 ntial outdoor skills like climbing\, rappelling\, and knot-tying\, while a
 lso exploring nature through fun games\, hands-on learning\, and group bon
 ding activities.
LAST-MODIFIED;VALUE=DATE-TIME:20250827T003541Z
LOCATION:Seattle Program Center
URL:https://www.mountaineers.org/locations-lodges/seattle-program-center/e
 vents/after-school-fall-expeditions-2025-10-23
END:VEVENT
BEGIN:VTIMEZONE
TZID:America/Los_Angeles
X-LIC-LOCATION:America/Los_Angeles
BEGIN:DAYLIGHT
DTSTART;VALUE=DATE-TIME:20250309T030000
TZNAME:PDT
TZOFFSETFROM:-0800
TZOFFSETTO:-0700
END:DAYLIGHT
END:VTIMEZONE
END:VCALENDAR
