BEGIN:VCALENDAR
VERSION:2.0
PRODID:-//Plone.org//NONSGML plone.app.event//EN
X-WR-TIMEZONE:US/Pacific
BEGIN:VEVENT
SUMMARY:Adventure Writing Workshop with Charlotte Austin: Secrets of a Tra
 vel Writer
DTSTART;VALUE=DATE-TIME:20190107T183000
DTEND;VALUE=DATE-TIME:20190107T210000
DTSTAMP;VALUE=DATE-TIME:20260424T095329Z
UID:c6b3fded9b1c4260a415a60e9a2f177a@localhost:6081
CREATED;VALUE=DATE-TIME:20181004T192434Z
DESCRIPTION:Everyone can be a travel writer\, but not everyone knows it. W
 ith a little practice\, your snapshots\, postcards\, tweets\, and scribble
 d notes can be crafted into a unique story — and in this one-of-a-kind w
 orkshop\, you'll learn the secrets that travel writers swear by to turn th
 ose creative sparks into narrative arcs.
LAST-MODIFIED;VALUE=DATE-TIME:20181008T155821Z
LOCATION:Seattle Program Center
URL:https://www.mountaineers.org/locations-lodges/seattle-program-center/e
 vents/adventure-writing-workshop-with-charlotte-austin-secrets-of-a-travel
 -writer-3
END:VEVENT
BEGIN:VTIMEZONE
TZID:America/Los_Angeles
X-LIC-LOCATION:America/Los_Angeles
BEGIN:STANDARD
DTSTART;VALUE=DATE-TIME:20181104T010000
TZNAME:PST
TZOFFSETFROM:-0700
TZOFFSETTO:-0800
END:STANDARD
END:VTIMEZONE
END:VCALENDAR
