BEGIN:VCALENDAR
VERSION:2.0
PRODID:-//Plone.org//NONSGML plone.app.event//EN
X-WR-TIMEZONE:US/Pacific
BEGIN:VEVENT
SUMMARY:Melissa Arnot
DTSTART;VALUE=DATE-TIME:20150109T190000
DTEND;VALUE=DATE-TIME:20150109T210000
DTSTAMP;VALUE=DATE-TIME:20260422T201057Z
UID:b6917479170e4ff7b55eb31e652c3d10@localhost:6081
CREATED;VALUE=DATE-TIME:20140924T010616Z
DESCRIPTION:Melissa Arnot - A Presentation on Living Your Adventure and th
 en Doing it Again.
LAST-MODIFIED;VALUE=DATE-TIME:20150307T014906Z
LOCATION:Seattle Program Center
URL:https://www.mountaineers.org/locations-lodges/seattle-program-center/e
 vents/Melissa-Arnot
END:VEVENT
BEGIN:VTIMEZONE
TZID:America/Los_Angeles
X-LIC-LOCATION:America/Los_Angeles
BEGIN:STANDARD
DTSTART;VALUE=DATE-TIME:20141102T010000
TZNAME:PST
TZOFFSETFROM:-0700
TZOFFSETTO:-0800
END:STANDARD
END:VTIMEZONE
END:VCALENDAR
