BEGIN:VCALENDAR
VERSION:2.0
PRODID:-//Plone.org//NONSGML plone.app.event//EN
X-WR-TIMEZONE:US/Pacific
BEGIN:VEVENT
SUMMARY:50th Anniversary of the American ascent of Nanda Devi (private eve
 nt hold)
DTSTART;VALUE=DATE-TIME:20260901T160000
DTEND;VALUE=DATE-TIME:20260901T220000
DTSTAMP;VALUE=DATE-TIME:20260420T064438Z
UID:9229d0d2d15f417c9ae6cab671f6afd8@localhost:6081
CREATED;VALUE=DATE-TIME:20260330T225843Z
DESCRIPTION:50th Anniversary of the American ascent of Nanda Devi (private
  event hold)
LAST-MODIFIED;VALUE=DATE-TIME:20260330T225912Z
LOCATION:Seattle Program Center
URL:https://www.mountaineers.org/locations-lodges/seattle-program-center/e
 vents/50th-anniversary-of-the-american-ascent-of-nanda-devi-private-event-
 hold
END:VEVENT
BEGIN:VTIMEZONE
TZID:America/Los_Angeles
X-LIC-LOCATION:America/Los_Angeles
BEGIN:DAYLIGHT
DTSTART;VALUE=DATE-TIME:20260308T030000
TZNAME:PDT
TZOFFSETFROM:-0800
TZOFFSETTO:-0700
END:DAYLIGHT
END:VTIMEZONE
END:VCALENDAR
