BEGIN:VCALENDAR
VERSION:2.0
PRODID:-//Plone.org//NONSGML plone.app.event//EN
X-WR-TIMEZONE:US/Pacific
BEGIN:VEVENT
SUMMARY:"100 Classic Hikes: Washington" Launch Party 
DTSTART;VALUE=DATE-TIME:20160614T190000
DTEND;VALUE=DATE-TIME:20160614T200000
DTSTAMP;VALUE=DATE-TIME:20260420T085911Z
UID:89151a74e2f34e46b027ea4ccd4ced2d@localhost:6081
CREATED;VALUE=DATE-TIME:20160315T232634Z
DESCRIPTION:Launch Party for 100 Classic Hikes: Washington
LAST-MODIFIED;VALUE=DATE-TIME:20160614T182837Z
LOCATION:Seattle Program Center
URL:https://www.mountaineers.org/locations-lodges/seattle-program-center/e
 vents/100-classic-hikes-washington-all-new-edition-launch-party
END:VEVENT
BEGIN:VTIMEZONE
TZID:America/Los_Angeles
X-LIC-LOCATION:America/Los_Angeles
BEGIN:DAYLIGHT
DTSTART;VALUE=DATE-TIME:20160313T030000
TZNAME:PDT
TZOFFSETFROM:-0800
TZOFFSETTO:-0700
END:DAYLIGHT
END:VTIMEZONE
END:VCALENDAR
