BEGIN:VCALENDAR
VERSION:2.0
PRODID:-//Plone.org//NONSGML plone.app.event//EN
X-WR-TIMEZONE:US/Pacific
BEGIN:VEVENT
SUMMARY:Methow Valley Winter Activities 
DTSTART;VALUE=DATE-TIME:20180105T150000
DTEND;VALUE=DATE-TIME:20180107T170000
DTSTAMP;VALUE=DATE-TIME:20260419T175213Z
UID:230304d79d7f433c96b812977d9c15b4@localhost:6081
CREATED;VALUE=DATE-TIME:20170926T210709Z
DESCRIPTION:Head over to the beautiful Methow Valley for a weekend of enjo
 yable outdoor activities in central Washington! The Methow Valley is home 
 to some of the best skiing and snowshoeing in the country\, and the local 
 community is lively with activity all winter long.\n
LAST-MODIFIED;VALUE=DATE-TIME:20171230T000132Z
LOCATION:Methow Valley
URL:https://www.mountaineers.org/locations-lodges/seattle-branch/events/wi
 nter-trails-day-methow-valley
END:VEVENT
BEGIN:VTIMEZONE
TZID:America/Los_Angeles
X-LIC-LOCATION:America/Los_Angeles
BEGIN:STANDARD
DTSTART;VALUE=DATE-TIME:20171105T010000
TZNAME:PST
TZOFFSETFROM:-0700
TZOFFSETTO:-0800
END:STANDARD
END:VTIMEZONE
END:VCALENDAR
