BEGIN:VCALENDAR
VERSION:2.0
PRODID:-//Plone.org//NONSGML plone.app.event//EN
X-WR-TIMEZONE:US/Pacific
BEGIN:VEVENT
SUMMARY:Webinar: Reduce Your Carbon Footprint AND Save Time and Money: Ele
 ctric Vehicles
DTSTART;VALUE=DATE-TIME:20200504T190000
DTEND;VALUE=DATE-TIME:20200504T210000
DTSTAMP;VALUE=DATE-TIME:20260420T082401Z
UID:6399106b1cd74609a974e6afb72482eb@localhost:6081
CREATED;VALUE=DATE-TIME:20200409T205732Z
DESCRIPTION:We'll start out with the urgency of the biggest issue facing t
 he world\, but then move along to one practical solution that rewards you 
 for taking positive steps- Electric Vehicles in this session.
LAST-MODIFIED;VALUE=DATE-TIME:20200410T024439Z
LOCATION:OnLine
URL:https://www.mountaineers.org/locations-lodges/seattle-branch/events/we
 binar-reduce-your-carbon-footprint-and-save-time-and-money-electric-vehicl
 es
END:VEVENT
BEGIN:VTIMEZONE
TZID:America/Los_Angeles
X-LIC-LOCATION:America/Los_Angeles
BEGIN:DAYLIGHT
DTSTART;VALUE=DATE-TIME:20200308T030000
TZNAME:PDT
TZOFFSETFROM:-0800
TZOFFSETTO:-0700
END:DAYLIGHT
END:VTIMEZONE
END:VCALENDAR
