BEGIN:VCALENDAR
VERSION:2.0
PRODID:-//Plone.org//NONSGML plone.app.event//EN
X-WR-TIMEZONE:US/Pacific
BEGIN:VEVENT
SUMMARY:The Who\, What\, Why\, and Where of King County Search & Rescue
DTSTART;VALUE=DATE-TIME:20201118T190000
DTEND;VALUE=DATE-TIME:20201118T203000
DTSTAMP;VALUE=DATE-TIME:20260420T081550Z
UID:a9b7be6714004495a68422091afca8e4@localhost:6081
CREATED;VALUE=DATE-TIME:20201015T131604Z
DESCRIPTION:Learn about the inner workings of the extraordinary all-volunt
 eer King County Search & Rescue\, including how they are organized\, what 
 a typical mission is like\, and how they have been impacted by COVID-19.\n
LAST-MODIFIED;VALUE=DATE-TIME:20201103T125512Z
LOCATION:Zoom online event
URL:https://www.mountaineers.org/locations-lodges/seattle-branch/events/th
 e-who-what-why-and-where-of-king-county-search-rescue
END:VEVENT
BEGIN:VTIMEZONE
TZID:America/Los_Angeles
X-LIC-LOCATION:America/Los_Angeles
BEGIN:STANDARD
DTSTART;VALUE=DATE-TIME:20201101T010000
TZNAME:PST
TZOFFSETFROM:-0700
TZOFFSETTO:-0800
END:STANDARD
END:VTIMEZONE
END:VCALENDAR
