BEGIN:VCALENDAR
VERSION:2.0
PRODID:-//Plone.org//NONSGML plone.app.event//EN
X-WR-TIMEZONE:US/Pacific
BEGIN:VEVENT
SUMMARY:Strategic Plan Focus Group: Expanding Youth Programs
DTSTART;VALUE=DATE-TIME:20220919T180000
DTEND;VALUE=DATE-TIME:20220919T190000
DTSTAMP;VALUE=DATE-TIME:20260420T095255Z
UID:249b45d32c8c446cbafdf386dbc85768@localhost:6081
CREATED;VALUE=DATE-TIME:20220816T201855Z
DESCRIPTION:An invitation for our community to provide feedback on The Mou
 ntaineers Strategic Plan. This session will specifically focus on our stra
 tegic priority of Expanding Youth Programs.
LAST-MODIFIED;VALUE=DATE-TIME:20220920T235915Z
LOCATION:Zoom Meeting
URL:https://www.mountaineers.org/locations-lodges/seattle-branch/events/st
 rategic-plan-focus-group-youth
END:VEVENT
BEGIN:VTIMEZONE
TZID:America/Los_Angeles
X-LIC-LOCATION:America/Los_Angeles
BEGIN:DAYLIGHT
DTSTART;VALUE=DATE-TIME:20220313T030000
TZNAME:PDT
TZOFFSETFROM:-0800
TZOFFSETTO:-0700
END:DAYLIGHT
END:VTIMEZONE
END:VCALENDAR
