BEGIN:VCALENDAR
VERSION:2.0
PRODID:-//Plone.org//NONSGML plone.app.event//EN
X-WR-TIMEZONE:US/Pacific
BEGIN:VEVENT
SUMMARY:Strategic Plan Focus Group: Expanding Impact through Philanthropy
DTSTART;VALUE=DATE-TIME:20221025T190000
DTEND;VALUE=DATE-TIME:20221025T200000
DTSTAMP;VALUE=DATE-TIME:20260420T095412Z
UID:55cdb474941245d7ba7403228aadce6a@localhost:6081
CREATED;VALUE=DATE-TIME:20220816T211125Z
DESCRIPTION:An invitation for our community to provide feedback on The Mou
 ntaineers Strategic Plan. This session will specifically focus on our stra
 tegic priority of Expanding Impact through Philanthropy.
LAST-MODIFIED;VALUE=DATE-TIME:20220921T000138Z
LOCATION:Zoom Meeting
URL:https://www.mountaineers.org/locations-lodges/seattle-branch/events/st
 rategic-plan-focus-group-youth-2022-10-25-1
END:VEVENT
BEGIN:VTIMEZONE
TZID:America/Los_Angeles
X-LIC-LOCATION:America/Los_Angeles
BEGIN:DAYLIGHT
DTSTART;VALUE=DATE-TIME:20220313T030000
TZNAME:PDT
TZOFFSETFROM:-0800
TZOFFSETTO:-0700
END:DAYLIGHT
END:VTIMEZONE
END:VCALENDAR
