BEGIN:VCALENDAR
VERSION:2.0
PRODID:-//Plone.org//NONSGML plone.app.event//EN
X-WR-TIMEZONE:US/Pacific
BEGIN:VEVENT
SUMMARY:Strategic Plan Focus Group: Training Effective Advocates
DTSTART;VALUE=DATE-TIME:20221017T180000
DTEND;VALUE=DATE-TIME:20221017T190000
DTSTAMP;VALUE=DATE-TIME:20260420T095413Z
UID:f5b17787b30d41f096085b00166a6739@localhost:6081
CREATED;VALUE=DATE-TIME:20220816T211119Z
DESCRIPTION:An invitation for our community to provide feedback on The Mou
 ntaineers Strategic Plan. This session will specifically focus on our stra
 tegic priority of Training Effective Advocates.
LAST-MODIFIED;VALUE=DATE-TIME:20220921T000058Z
LOCATION:Zoom Meeting
URL:https://www.mountaineers.org/locations-lodges/seattle-branch/events/st
 rategic-plan-focus-group-youth-2022-10-17
END:VEVENT
BEGIN:VTIMEZONE
TZID:America/Los_Angeles
X-LIC-LOCATION:America/Los_Angeles
BEGIN:DAYLIGHT
DTSTART;VALUE=DATE-TIME:20220313T030000
TZNAME:PDT
TZOFFSETFROM:-0800
TZOFFSETTO:-0700
END:DAYLIGHT
END:VTIMEZONE
END:VCALENDAR
