BEGIN:VCALENDAR
VERSION:2.0
PRODID:-//Plone.org//NONSGML plone.app.event//EN
X-WR-TIMEZONE:US/Pacific
BEGIN:VEVENT
SUMMARY:Seattle Sailing Kickoff and Raft up
DTSTART;VALUE=DATE-TIME:20180318T103000
DTEND;VALUE=DATE-TIME:20180318T170000
DTSTAMP;VALUE=DATE-TIME:20260420T234115Z
UID:e1f2f71642b54ebd9582e7c556712cec@localhost:6081
CREATED;VALUE=DATE-TIME:20180226T180422Z
DESCRIPTION:All Mountaineers welcome to join- Sign up here and you'll be a
 ssigned to a boat that leaves out of Lake Washington\, Shishole\, Elliott 
 or Edmonds Marina. 
LAST-MODIFIED;VALUE=DATE-TIME:20180226T182129Z
LOCATION:Various boats
URL:https://www.mountaineers.org/locations-lodges/seattle-branch/events/se
 attle-sailing-kickoff-and-raft-up
END:VEVENT
BEGIN:VTIMEZONE
TZID:America/Los_Angeles
X-LIC-LOCATION:America/Los_Angeles
BEGIN:DAYLIGHT
DTSTART;VALUE=DATE-TIME:20180311T030000
TZNAME:PDT
TZOFFSETFROM:-0800
TZOFFSETTO:-0700
END:DAYLIGHT
END:VTIMEZONE
END:VCALENDAR
