BEGIN:VCALENDAR
VERSION:2.0
PRODID:-//Plone.org//NONSGML plone.app.event//EN
X-WR-TIMEZONE:US/Pacific
BEGIN:VEVENT
SUMMARY:Seattle IB LT - (almost) May Mtg
DTSTART;VALUE=DATE-TIME:20260429T180000
DTEND;VALUE=DATE-TIME:20260429T190000
DTSTAMP;VALUE=DATE-TIME:20260420T220532Z
UID:f4c033dd0739428d8c4dcca8a67954c7@localhost:6081
CREATED;VALUE=DATE-TIME:20260331T174101Z
DESCRIPTION:Monthly Seattle IB leadership meeting
LAST-MODIFIED;VALUE=DATE-TIME:20260331T174313Z
LOCATION:virtual
URL:https://www.mountaineers.org/locations-lodges/seattle-branch/events/se
 attle-ib-lt-dec-mtg-2026-04-29
END:VEVENT
BEGIN:VTIMEZONE
TZID:America/Los_Angeles
X-LIC-LOCATION:America/Los_Angeles
BEGIN:DAYLIGHT
DTSTART;VALUE=DATE-TIME:20260308T030000
TZNAME:PDT
TZOFFSETFROM:-0800
TZOFFSETTO:-0700
END:DAYLIGHT
END:VTIMEZONE
END:VCALENDAR
